BEGIN:VCALENDAR
VERSION:2.0
PRODID:-//MediaDesign//MediaDesign.at//DE
CALSCALE:GREGORIAN
BEGIN:VEVENT
DTSTART:20200904T200000
DTEND:20200904T210000
LOCATION:Wiener Straße 2
DTSTAMP:20260422T133537
SUMMARY:Non Prophets Orchestra
URL;VALUE=URI:https://horn.gv.at
DESCRIPTION:
UID:20260422T133537-20200904T200000-20200904T210000
END:VEVENT
END:VCALENDAR