BEGIN:VCALENDAR
VERSION:2.0
PRODID:-//MediaDesign//MediaDesign.at//DE
CALSCALE:GREGORIAN
BEGIN:VEVENT
DTSTART:20200314T090000
DTEND:20200314T100000
LOCATION:Wiener Straße 2\, 3580 Horn
DTSTAMP:20260422T235235
SUMMARY:ABGESAGT N Landesmeisterschaft 
URL;VALUE=URI:https://horn.gv.at
DESCRIPTION:der Filmautoren
UID:20260422T235235-20200314T090000-20200314T100000
END:VEVENT
END:VCALENDAR