BEGIN:VCALENDAR
VERSION:2.0
PRODID:-//MediaDesign//MediaDesign.at//DE
CALSCALE:GREGORIAN
BEGIN:VEVENT
DTSTART:20200313T180000
DTEND:20200313T190000
LOCATION:Canisiusgasse 1\, 3580 Horn
DTSTAMP:20260423T024010
SUMMARY:ABGESAGT Geheimtip in der Mitte
URL;VALUE=URI:https://horn.gv.at
DESCRIPTION:Dialog und Buchprsentation
UID:20260423T024010-20200313T180000-20200313T190000
END:VEVENT
END:VCALENDAR