BEGIN:VCALENDAR
VERSION:2.0
PRODID:-//MediaDesign//MediaDesign.at//DE
CALSCALE:GREGORIAN
BEGIN:VEVENT
DTSTART:20200313T191000
DTEND:20200313T201000
LOCATION:Altbachweg 10\, 3580 Horn
DTSTAMP:20260423T011207
SUMMARY:ABGESAGT SV HORN VS FC LIEFERING
URL;VALUE=URI:https://horn.gv.at
DESCRIPTION:BE PART OFT IT
UID:20260423T011207-20200313T191000-20200313T201000
END:VEVENT
END:VCALENDAR