BEGIN:VCALENDAR
VERSION:2.0
PRODID:-//MediaDesign//MediaDesign.at//DE
CALSCALE:GREGORIAN
BEGIN:VEVENT
DTSTART:20200920T080000
DTEND:20200920T090000
LOCATION:Kieselbreitengasse 18\, 3580 Horn
DTSTAMP:20260417T080803
SUMMARY:AV Wanderung
URL;VALUE=URI:https://horn.gv.at
DESCRIPTION:Horn  Steindlberg  Horn 
UID:20260417T080803-20200920T080000-20200920T090000
END:VEVENT
END:VCALENDAR