BEGIN:VCALENDAR
VERSION:2.0
PRODID:-//MediaDesign//MediaDesign.at//DE
CALSCALE:GREGORIAN
BEGIN:VEVENT
DTSTART:20200913T060000
DTEND:20200913T070000
LOCATION:Kieselbreitengasse 18\, 3580 Horn
DTSTAMP:20260422T000401
SUMMARY:AV Wanderung
URL;VALUE=URI:https://horn.gv.at
DESCRIPTION:tscher  Rauher Kamm
UID:20260422T000401-20200913T060000-20200913T070000
END:VEVENT
END:VCALENDAR