BEGIN:VCALENDAR
VERSION:2.0
PRODID:-//MediaDesign//MediaDesign.at//DE
CALSCALE:GREGORIAN
BEGIN:VEVENT
DTSTART:20201026T093000
DTEND:20201026T103000
LOCATION:Kieselbreitengasse 18\, 3580 Horn
DTSTAMP:20260420T025633
SUMMARY:AV Wanderung
URL;VALUE=URI:https://horn.gv.at
DESCRIPTION:11 Horner Familienwandertag
UID:20260420T025633-20201026T093000-20201026T103000
END:VEVENT
END:VCALENDAR