BEGIN:VCALENDAR
VERSION:2.0
PRODID:-//MediaDesign//MediaDesign.at//DE
CALSCALE:GREGORIAN
BEGIN:VEVENT
DTSTART:20200822T083000
DTEND:20200822T093000
LOCATION:Kieselbreitengasse 18\, 3580 Horn
DTSTAMP:20260423T115056
SUMMARY:AV Radtour 
URL;VALUE=URI:https://horn.gv.at
DESCRIPTION:Weinviertel DAC 
UID:20260423T115056-20200822T083000-20200822T093000
END:VEVENT
END:VCALENDAR