BEGIN:VCALENDAR
VERSION:2.0
PRODID:-//MediaDesign//MediaDesign.at//DE
CALSCALE:GREGORIAN
BEGIN:VEVENT
DTSTART:20200725T083000
DTEND:20200725T093000
LOCATION:Kieselbreitengasse 18\, 3580 Horn
DTSTAMP:20260424T041128
SUMMARY:AV Radtour 
URL;VALUE=URI:https://horn.gv.at
DESCRIPTION:Wein und Kultur 
UID:20260424T041128-20200725T083000-20200725T093000
END:VEVENT
END:VCALENDAR