BEGIN:VCALENDAR
VERSION:2.0
PRODID:-//MediaDesign//MediaDesign.at//DE
CALSCALE:GREGORIAN
BEGIN:VEVENT
DTSTART:20200718T090000
DTEND:20200718T100000
LOCATION:Robert-Hamerling-Straße 7\, 3580 Horn
DTSTAMP:20260423T212414
SUMMARY:AV  Sportklettern 
URL;VALUE=URI:https://horn.gv.at
DESCRIPTION:Felsen in Rastenfeld
UID:20260423T212414-20200718T090000-20200718T100000
END:VEVENT
END:VCALENDAR