BEGIN:VCALENDAR
VERSION:2.0
PRODID:-//MediaDesign//MediaDesign.at//DE
CALSCALE:GREGORIAN
BEGIN:VEVENT
DTSTART:20200705T083000
DTEND:20200705T093000
LOCATION:Kieselbreitengasse 18\, 3580 Horn
DTSTAMP:20260423T073318
SUMMARY:AV Wanderung
URL;VALUE=URI:https://horn.gv.at
DESCRIPTION:Schrems Langschwarza Schrems
UID:20260423T073318-20200705T083000-20200705T093000
END:VEVENT
END:VCALENDAR