BEGIN:VCALENDAR
VERSION:2.0
PRODID:-//MediaDesign//MediaDesign.at//DE
CALSCALE:GREGORIAN
BEGIN:VEVENT
DTSTART:20200614T082000
DTEND:20200614T092000
LOCATION:Diendorf
DTSTAMP:20260422T215820
SUMMARY:AV Wanderung
URL;VALUE=URI:https://horn.gv.at
DESCRIPTION:Elsarn Krotenmhle Mhlbach
UID:20260422T215820-20200614T082000-20200614T092000
END:VEVENT
END:VCALENDAR