BEGIN:VCALENDAR
VERSION:2.0
PRODID:-//MediaDesign//MediaDesign.at//DE
CALSCALE:GREGORIAN
BEGIN:VEVENT
DTSTART:20200822T140000
DTEND:20200822T150000
LOCATION:Kletterpark Rosenburg
DTSTAMP:20260423T103552
SUMMARY:Besuch Kletterpark Rosenburg
URL;VALUE=URI:https://horn.gv.at
DESCRIPTION:
UID:20260423T103552-20200822T140000-20200822T150000
END:VEVENT
END:VCALENDAR