BEGIN:VCALENDAR
VERSION:2.0
PRODID:-//MediaDesign//MediaDesign.at//DE
CALSCALE:GREGORIAN
BEGIN:VEVENT
DTSTART:20200918T070000
DTEND:20200918T080000
LOCATION:3580 Horn
DTSTAMP:20260421T115026
SUMMARY:AV Hochtour
URL;VALUE=URI:https://horn.gv.at
DESCRIPTION:auf den Groglockner
UID:20260421T115026-20200918T070000-20200918T080000
END:VEVENT
END:VCALENDAR