BEGIN:VCALENDAR
VERSION:2.0
PRODID:-//MediaDesign//MediaDesign.at//DE
CALSCALE:GREGORIAN
BEGIN:VEVENT
DTSTART:20200717T070000
DTEND:20200717T080000
LOCATION:3580 Horn
DTSTAMP:20260423T183949
SUMMARY:AV Hochtour
URL;VALUE=URI:https://horn.gv.at
DESCRIPTION:Durchs Innergschltal
UID:20260423T183949-20200717T070000-20200717T080000
END:VEVENT
END:VCALENDAR