BEGIN:VCALENDAR
VERSION:2.0
PRODID:-//MediaDesign//MediaDesign.at//DE
CALSCALE:GREGORIAN
BEGIN:VEVENT
DTSTART:20200614T070000
DTEND:20200614T080000
LOCATION:3580 Horn
DTSTAMP:20260422T202614
SUMMARY:AV Klettertour
URL;VALUE=URI:https://horn.gv.at
DESCRIPTION:Grimmingberschreitung 
UID:20260422T202614-20200614T070000-20200614T080000
END:VEVENT
END:VCALENDAR