BEGIN:VCALENDAR
VERSION:2.0
PRODID:-//MediaDesign//MediaDesign.at//DE
CALSCALE:GREGORIAN
BEGIN:VEVENT
DTSTART:20200920T060000
DTEND:20200920T070000
LOCATION:Kieselbreitengasse 18\, 3580 Horn
DTSTAMP:20260421T085321
SUMMARY:AV Wanderung
URL;VALUE=URI:https://horn.gv.at
DESCRIPTION:Traunstein
UID:20260421T085321-20200920T060000-20200920T070000
END:VEVENT
END:VCALENDAR