BEGIN:VCALENDAR
VERSION:2.0
PRODID:-//MediaDesign//MediaDesign.at//DE
CALSCALE:GREGORIAN
BEGIN:VEVENT
DTSTART:20200817T070000
DTEND:20200817T080000
LOCATION:3580 Horn
DTSTAMP:20260423T224033
SUMMARY:AV Wanderung
URL;VALUE=URI:https://horn.gv.at
DESCRIPTION:Nationalpark Kalkalpen
UID:20260423T224033-20200817T070000-20200817T080000
END:VEVENT
END:VCALENDAR