BEGIN:VCALENDAR
VERSION:2.0
PRODID:-//MediaDesign//MediaDesign.at//DE
CALSCALE:GREGORIAN
BEGIN:VEVENT
DTSTART:20200621T063000
DTEND:20200621T073000
LOCATION:Kieselbreitengasse 18\, 3580 Horn
DTSTAMP:20260423T023500
SUMMARY:AV Wanderung
URL;VALUE=URI:https://horn.gv.at
DESCRIPTION:Traunstein
UID:20260423T023500-20200621T063000-20200621T073000
END:VEVENT
END:VCALENDAR