BEGIN:VCALENDAR
VERSION:2.0
PRODID:-//MediaDesign//MediaDesign.at//DE
CALSCALE:GREGORIAN
BEGIN:VEVENT
DTSTART:20200809T080000
DTEND:20200809T090000
LOCATION:Festgelände Horn
DTSTAMP:20260424T135224
SUMMARY:AV Wanderung
URL;VALUE=URI:https://horn.gv.at
DESCRIPTION:Gro Gerungs  Klauskapelle 
UID:20260424T135224-20200809T080000-20200809T090000
END:VEVENT
END:VCALENDAR