BEGIN:VCALENDAR
VERSION:2.0
PRODID:-//MediaDesign//MediaDesign.at//DE
CALSCALE:GREGORIAN
BEGIN:VEVENT
DTSTART:20200730T070000
DTEND:20200730T080000
LOCATION:3580 Horn
DTSTAMP:20260424T235236
SUMMARY:AV Wanderung
URL;VALUE=URI:https://horn.gv.at
DESCRIPTION:Saalbacher Grasberge
UID:20260424T235236-20200730T070000-20200730T080000
END:VEVENT
END:VCALENDAR