BEGIN:VCALENDAR
VERSION:2.0
PRODID:-//MediaDesign//MediaDesign.at//DE
CALSCALE:GREGORIAN
BEGIN:VEVENT
DTSTART:20200906T080000
DTEND:20200906T090000
LOCATION:Festgelände Horn
DTSTAMP:20260422T104039
SUMMARY:AV Wanderung
URL;VALUE=URI:https://horn.gv.at
DESCRIPTION:Hocheck Wienerwald
UID:20260422T104039-20200906T080000-20200906T090000
END:VEVENT
END:VCALENDAR