BEGIN:VCALENDAR
VERSION:2.0
PRODID:-//MediaDesign//MediaDesign.at//DE
CALSCALE:GREGORIAN
BEGIN:VEVENT
DTSTART:20200830T080000
DTEND:20200830T090000
LOCATION:Festgelände Horn
DTSTAMP:20260422T234209
SUMMARY:AV Wanderung
URL;VALUE=URI:https://horn.gv.at
DESCRIPTION:Karlstift  Pohori  Kamenec
UID:20260422T234209-20200830T080000-20200830T090000
END:VEVENT
END:VCALENDAR