BEGIN:VCALENDAR
VERSION:2.0
PRODID:-//MediaDesign//MediaDesign.at//DE
CALSCALE:GREGORIAN
BEGIN:VEVENT
DTSTART:20200726T083000
DTEND:20200726T093000
LOCATION:Kieselbreitengasse 18\, 3580 Horn
DTSTAMP:20260424T052042
SUMMARY:AV Wanderung
URL;VALUE=URI:https://horn.gv.at
DESCRIPTION:Dobra Voda Tschechien
UID:20260424T052042-20200726T083000-20200726T093000
END:VEVENT
END:VCALENDAR