BEGIN:VCALENDAR
VERSION:2.0
PRODID:-//MediaDesign//MediaDesign.at//DE
CALSCALE:GREGORIAN
BEGIN:VEVENT
DTSTART:20200719T080000
DTEND:20200719T090000
LOCATION:Kieselbreitengasse 18\, 3580 Horn
DTSTAMP:20260424T000613
SUMMARY:AV Wanderung
URL;VALUE=URI:https://horn.gv.at
DESCRIPTION:Hainfelder Kirchenberg
UID:20260424T000613-20200719T080000-20200719T090000
END:VEVENT
END:VCALENDAR