BEGIN:VCALENDAR
VERSION:2.0
PRODID:-//MediaDesign//MediaDesign.at//DE
CALSCALE:GREGORIAN
BEGIN:VEVENT
DTSTART:20200711T073000
DTEND:20200711T083000
LOCATION:Kieselbreitengasse 18\, 3580 Horn
DTSTAMP:20260423T113545
SUMMARY:AV Wanderung
URL;VALUE=URI:https://horn.gv.at
DESCRIPTION:Wanderungen im tschergebiet
UID:20260423T113545-20200711T073000-20200711T083000
END:VEVENT
END:VCALENDAR