BEGIN:VCALENDAR
VERSION:2.0
PRODID:-//MediaDesign//MediaDesign.at//DE
CALSCALE:GREGORIAN
BEGIN:VEVENT
DTSTART:20200628T080000
DTEND:20200628T090000
LOCATION:Festgelände Horn
DTSTAMP:20260423T034830
SUMMARY:AV Wanderung
URL;VALUE=URI:https://horn.gv.at
DESCRIPTION:Harbach  Mandelstein  Harbac
UID:20260423T034830-20200628T080000-20200628T090000
END:VEVENT
END:VCALENDAR