BEGIN:VCALENDAR
VERSION:2.0
PRODID:-//MediaDesign//MediaDesign.at//DE
CALSCALE:GREGORIAN
BEGIN:VEVENT
DTSTART:20201115T080000
DTEND:20201115T090000
LOCATION:Kieselbreitengasse 18\, 3580 Horn
DTSTAMP:20260421T015553
SUMMARY:ABGESAGT AV Wanderung
URL;VALUE=URI:https://horn.gv.at
DESCRIPTION:Rund um Gpfritz am Bergteichw
UID:20260421T015553-20201115T080000-20201115T090000
END:VEVENT
END:VCALENDAR