BEGIN:VCALENDAR
VERSION:2.0
PRODID:-//MediaDesign//MediaDesign.at//DE
CALSCALE:GREGORIAN
BEGIN:VEVENT
DTSTART:20201108T083000
DTEND:20201108T093000
LOCATION:Kieselbreitengasse 18\, 3580 Horn
DTSTAMP:20260420T191230
SUMMARY:ABGESAGT AV Wanderung
URL;VALUE=URI:https://horn.gv.at
DESCRIPTION:RosenburgRunde 
UID:20260420T191230-20201108T083000-20201108T093000
END:VEVENT
END:VCALENDAR