BEGIN:VCALENDAR
VERSION:2.0
PRODID:-//MediaDesign//MediaDesign.at//DE
CALSCALE:GREGORIAN
BEGIN:VEVENT
DTSTART:20200818T190000
DTEND:20200818T200000
LOCATION:Spitalgasse 10\, 3580 Horn
DTSTAMP:20260423T201443
SUMMARY:Stammtisch f Pfl Ang  Deme
URL;VALUE=URI:https://horn.gv.at
DESCRIPTION:
UID:20260423T201443-20200818T190000-20200818T200000
END:VEVENT
END:VCALENDAR