BEGIN:VCALENDAR
VERSION:2.0
PRODID:-//MediaDesign//MediaDesign.at//DE
CALSCALE:GREGORIAN
BEGIN:VEVENT
DTSTART:20201112T190000
DTEND:20201112T200000
LOCATION:A-3580 Horn\, Spitalgasse 10
DTSTAMP:20260420T204122
SUMMARY:ABGESAGT Gruppentreffen
URL;VALUE=URI:https://horn.gv.at
DESCRIPTION:SHG Wolkenlos Horn
UID:20260420T204122-20201112T190000-20201112T200000
END:VEVENT
END:VCALENDAR