BEGIN:VCALENDAR
VERSION:2.0
PRODID:-//MediaDesign//MediaDesign.at//DE
CALSCALE:GREGORIAN
BEGIN:VEVENT
DTSTART:20200910T190000
DTEND:20200910T200000
LOCATION:A-3580 Horn\, Spitalgasse 10
DTSTAMP:20260422T043123
SUMMARY:Gruppentreffen
URL;VALUE=URI:https://horn.gv.at
DESCRIPTION:SHG Wolkenlos Horn
UID:20260422T043123-20200910T190000-20200910T200000
END:VEVENT
END:VCALENDAR