BEGIN:VCALENDAR
VERSION:2.0
PRODID:-//MediaDesign//MediaDesign.at//DE
CALSCALE:GREGORIAN
BEGIN:VEVENT
DTSTART:20200810T190000
DTEND:20200810T200000
LOCATION:A-3580 Horn\, Spitalgasse 10
DTSTAMP:20260424T094528
SUMMARY:Gruppentreffen
URL;VALUE=URI:https://horn.gv.at
DESCRIPTION:SHG Wolkenlos Horn
UID:20260424T094528-20200810T190000-20200810T200000
END:VEVENT
END:VCALENDAR