BEGIN:VCALENDAR
VERSION:2.0
PRODID:-//MediaDesign//MediaDesign.at//DE
CALSCALE:GREGORIAN
BEGIN:VEVENT
DTSTART:20200312T190000
DTEND:20200312T200000
LOCATION:Spitalgasse 10. 3580 Horn
DTSTAMP:20260423T034830
SUMMARY:Gruppentreffen
URL;VALUE=URI:https://horn.gv.at
DESCRIPTION:SHG Wolkenlos Horn
UID:20260423T034830-20200312T190000-20200312T200000
END:VEVENT
END:VCALENDAR