BEGIN:VCALENDAR
VERSION:2.0
PRODID:-//MediaDesign//MediaDesign.at//DE
CALSCALE:GREGORIAN
BEGIN:VEVENT
DTSTART:20200311T190000
DTEND:20200311T200000
LOCATION:Robert Hamerling Straße 9\, 3580 Horn
DTSTAMP:20260423T050608
SUMMARY:ABGESAGT Gschwandtner und Redl
URL;VALUE=URI:https://horn.gv.at
DESCRIPTION:Buchprsentation
UID:20260423T050608-20200311T190000-20200311T200000
END:VEVENT
END:VCALENDAR