BEGIN:VCALENDAR
VERSION:2.0
PRODID:-//MediaDesign//MediaDesign.at//DE
CALSCALE:GREGORIAN
BEGIN:VEVENT
DTSTART:20200315T090000
DTEND:20200315T100000
LOCATION:Kieselbreitengasse 18\, 3580 Horn
DTSTAMP:20260422T222636
SUMMARY:AV Wanderung
URL;VALUE=URI:https://horn.gv.at
DESCRIPTION:Rundweg Nr 43
UID:20260422T222636-20200315T090000-20200315T100000
END:VEVENT
END:VCALENDAR