BEGIN:VCALENDAR
VERSION:2.0
PRODID:-//MediaDesign//MediaDesign.at//DE
CALSCALE:GREGORIAN
BEGIN:VEVENT
DTSTART:20190916T130000
DTEND:20190916T140000
LOCATION:Technisches Museum
DTSTAMP:20260426T023542
SUMMARY:Busfahrt nach Brnn
URL;VALUE=URI:https://horn.gv.at
DESCRIPTION:Katalogprsentation
UID:20260426T023542-20190916T130000-20190916T140000
END:VEVENT
END:VCALENDAR