BEGIN:VCALENDAR
VERSION:2.0
PRODID:-//MediaDesign//MediaDesign.at//DE
CALSCALE:GREGORIAN
BEGIN:VEVENT
DTSTART:20190907T130000
DTEND:20190907T140000
LOCATION:Feinfeld 9
DTSTAMP:20260425T170148
SUMMARY:DreschaFest dees KB Fuglau
URL;VALUE=URI:https://horn.gv.at
DESCRIPTION:
UID:20260425T170148-20190907T130000-20190907T140000
END:VEVENT
END:VCALENDAR