BEGIN:VCALENDAR
VERSION:2.0
PRODID:-//MediaDesign//MediaDesign.at//DE
CALSCALE:GREGORIAN
BEGIN:VEVENT
DTSTART:20191020T070000
DTEND:20191020T080000
LOCATION:Festgelände Horn
DTSTAMP:20260418T080019
SUMMARY:AV Wanderung
URL;VALUE=URI:https://horn.gv.at
DESCRIPTION:Tonion
UID:20260418T080019-20191020T070000-20191020T080000
END:VEVENT
END:VCALENDAR