BEGIN:VCALENDAR
VERSION:2.0
PRODID:-//MediaDesign//MediaDesign.at//DE
CALSCALE:GREGORIAN
BEGIN:VEVENT
DTSTART:20190815T100000
DTEND:20190815T110000
LOCATION:Kreuzung Dorfstraße/Steig in 3580 Mödring
DTSTAMP:20260423T085021
SUMMARY:FF Heuriger Mdring
URL;VALUE=URI:https://horn.gv.at
DESCRIPTION:
UID:20260423T085021-20190815T100000-20190815T110000
END:VEVENT
END:VCALENDAR