BEGIN:VCALENDAR
VERSION:2.0
PRODID:-//MediaDesign//MediaDesign.at//DE
CALSCALE:GREGORIAN
BEGIN:VEVENT
DTSTART:20190913T160000
DTEND:20190913T170000
LOCATION:Abt-Placidus-Much-Straße 1\, 3591 Altenburg
DTSTAMP:20260425T203603
SUMMARY:Fhrung durch Sammlung Arnold
URL;VALUE=URI:https://horn.gv.at
DESCRIPTION:Durch Abt MMag Thomas Renner
UID:20260425T203603-20190913T160000-20190913T170000
END:VEVENT
END:VCALENDAR