BEGIN:VCALENDAR
VERSION:2.0
PRODID:-//MediaDesign//MediaDesign.at//DE
CALSCALE:GREGORIAN
BEGIN:VEVENT
DTSTART:20190912T193000
DTEND:20190912T203000
LOCATION:Hamerlingstraße
DTSTAMP:20260425T192639
SUMMARY:60 Jahre Fotoklub
URL;VALUE=URI:https://horn.gv.at
DESCRIPTION:Galerie in der Hamerlingstrae
UID:20260425T192639-20190912T193000-20190912T203000
END:VEVENT
END:VCALENDAR