BEGIN:VCALENDAR
VERSION:2.0
PRODID:-//MediaDesign//MediaDesign.at//DE
CALSCALE:GREGORIAN
BEGIN:VEVENT
DTSTART:20190830T170000
DTEND:20190830T180000
LOCATION:Raabserstraße 34\, 3580 Horn
DTSTAMP:20260425T090303
SUMMARY:StadtkapellenHeuriger
URL;VALUE=URI:https://horn.gv.at
DESCRIPTION:
UID:20260425T090303-20190830T170000-20190830T180000
END:VEVENT
END:VCALENDAR