BEGIN:VCALENDAR
VERSION:2.0
PRODID:-//MediaDesign//MediaDesign.at//DE
CALSCALE:GREGORIAN
BEGIN:VEVENT
DTSTART:20190825T090000
DTEND:20190825T100000
LOCATION:Josef-Kirchner-Gasse 10\, 3580 Horn
DTSTAMP:20260424T191142
SUMMARY:Tennis
URL;VALUE=URI:https://horn.gv.at
DESCRIPTION:Clubmeisterschaft
UID:20260424T191142-20190825T090000-20190825T100000
END:VEVENT
END:VCALENDAR