BEGIN:VCALENDAR
VERSION:2.0
PRODID:-//MediaDesign//MediaDesign.at//DE
CALSCALE:GREGORIAN
BEGIN:VEVENT
DTSTART:20190822T180000
DTEND:20190822T190000
LOCATION:Frauenhofnerstraße 2\, 3580 Horn
DTSTAMP:20260424T050342
SUMMARY:Tanz am Sommerabend
URL;VALUE=URI:https://horn.gv.at
DESCRIPTION:
UID:20260424T050342-20190822T180000-20190822T190000
END:VEVENT
END:VCALENDAR