BEGIN:VCALENDAR
VERSION:2.0
PRODID:-//MediaDesign//MediaDesign.at//DE
CALSCALE:GREGORIAN
BEGIN:VEVENT
DTSTART:20190821T184500
DTEND:20190821T194500
LOCATION:Frauenhofnerstraße\, 3580 Horn
DTSTAMP:20260424T000935
SUMMARY:Museumsmittwoch
URL;VALUE=URI:https://horn.gv.at
DESCRIPTION:
UID:20260424T000935-20190821T184500-20190821T194500
END:VEVENT
END:VCALENDAR