BEGIN:VCALENDAR
VERSION:2.0
PRODID:-//MediaDesign//MediaDesign.at//DE
CALSCALE:GREGORIAN
BEGIN:VEVENT
DTSTART:20190814T183000
DTEND:20190814T193000
LOCATION:Wienerstraße 4\, 3580 Horn
DTSTAMP:20260423T061547
SUMMARY:Museumsmittwoch
URL;VALUE=URI:https://horn.gv.at
DESCRIPTION:
UID:20260423T061547-20190814T183000-20190814T193000
END:VEVENT
END:VCALENDAR