BEGIN:VCALENDAR
VERSION:2.0
PRODID:-//MediaDesign//MediaDesign.at//DE
CALSCALE:GREGORIAN
BEGIN:VEVENT
DTSTART:20190810T100000
DTEND:20190810T110000
LOCATION:Ferdinand-Kurz-Gasse\, 3580 Horn
DTSTAMP:20260422T183956
SUMMARY:BeachVolleyballTurnier
URL;VALUE=URI:https://horn.gv.at
DESCRIPTION:
UID:20260422T183956-20190810T100000-20190810T110000
END:VEVENT
END:VCALENDAR