BEGIN:VCALENDAR
VERSION:2.0
PRODID:-//MediaDesign//MediaDesign.at//DE
CALSCALE:GREGORIAN
BEGIN:VEVENT
DTSTART:20190810T090000
DTEND:20190810T100000
LOCATION:Hauptplatz 9\, 3580 Horn
DTSTAMP:20260422T171702
SUMMARY:SlowfoodRegionalmarkt
URL;VALUE=URI:https://horn.gv.at
DESCRIPTION:
UID:20260422T171702-20190810T090000-20190810T100000
END:VEVENT
END:VCALENDAR