BEGIN:VCALENDAR
VERSION:2.0
PRODID:-//MediaDesign//MediaDesign.at//DE
CALSCALE:GREGORIAN
BEGIN:VEVENT
DTSTART:20190807T183000
DTEND:20190807T193000
LOCATION:Wienerstraße 4\, 3580 Horn
DTSTAMP:20260422T142723
SUMMARY:Museumsmittwoch
URL;VALUE=URI:https://horn.gv.at
DESCRIPTION:
UID:20260422T142723-20190807T183000-20190807T193000
END:VEVENT
END:VCALENDAR